BEGIN:VCALENDAR
VERSION:2.0
PRODID:-//SC Digital Resource Alliance​ - ECPv6.15.20//NONSGML v1.0//EN
CALSCALE:GREGORIAN
METHOD:PUBLISH
X-WR-CALNAME:SC Digital Resource Alliance​
X-ORIGINAL-URL:https://lowcountrydec.com
X-WR-CALDESC:Events for SC Digital Resource Alliance​
REFRESH-INTERVAL;VALUE=DURATION:PT1H
X-Robots-Tag:noindex
X-PUBLISHED-TTL:PT1H
BEGIN:VTIMEZONE
TZID:America/New_York
BEGIN:DAYLIGHT
TZOFFSETFROM:-0500
TZOFFSETTO:-0400
TZNAME:EDT
DTSTART:20220313T070000
END:DAYLIGHT
BEGIN:STANDARD
TZOFFSETFROM:-0400
TZOFFSETTO:-0500
TZNAME:EST
DTSTART:20221106T060000
END:STANDARD
BEGIN:DAYLIGHT
TZOFFSETFROM:-0500
TZOFFSETTO:-0400
TZNAME:EDT
DTSTART:20230312T070000
END:DAYLIGHT
BEGIN:STANDARD
TZOFFSETFROM:-0400
TZOFFSETTO:-0500
TZNAME:EST
DTSTART:20231105T060000
END:STANDARD
BEGIN:DAYLIGHT
TZOFFSETFROM:-0500
TZOFFSETTO:-0400
TZNAME:EDT
DTSTART:20240310T070000
END:DAYLIGHT
BEGIN:STANDARD
TZOFFSETFROM:-0400
TZOFFSETTO:-0500
TZNAME:EST
DTSTART:20241103T060000
END:STANDARD
END:VTIMEZONE
BEGIN:VEVENT
DTSTART;TZID=America/New_York:20231005T100000
DTEND;TZID=America/New_York:20231005T120000
DTSTAMP:20260420T111556
CREATED:20240430T112030Z
LAST-MODIFIED:20240430T112030Z
UID:1136-1696500000-1696507200@lowcountrydec.com
SUMMARY:Affordable Connectivity Program (ACP)
DESCRIPTION:Join us at St. George Library on Oct. 5 10 am – Noon at 506 N. Parler Ave\, St. George to learn about the Affordable Connectivity Program (ACP). The ACP provides a monthly $30 discount for internet services for eligible households..
URL:https://lowcountrydec.com/event/affordable-connectivity-program-acp-2/
CATEGORIES:Affordable Connectivity Program
ATTACH;FMTTYPE=image/png:https://lowcountrydec.com/wp-content/uploads/2023/09/DCLibrary-logo.png
END:VEVENT
END:VCALENDAR